BEGIN:VCALENDAR
VERSION:2.0
PRODID:-//International Motor Racing Research Center - ECPv6.15.20//NONSGML v1.0//EN
CALSCALE:GREGORIAN
METHOD:PUBLISH
X-WR-CALNAME:International Motor Racing Research Center
X-ORIGINAL-URL:https://www.racingarchives.org
X-WR-CALDESC:Events for International Motor Racing Research Center
REFRESH-INTERVAL;VALUE=DURATION:PT1H
X-Robots-Tag:noindex
X-PUBLISHED-TTL:PT1H
BEGIN:VTIMEZONE
TZID:America/New_York
BEGIN:DAYLIGHT
TZOFFSETFROM:-0500
TZOFFSETTO:-0400
TZNAME:EDT
DTSTART:20230312T070000
END:DAYLIGHT
BEGIN:STANDARD
TZOFFSETFROM:-0400
TZOFFSETTO:-0500
TZNAME:EST
DTSTART:20231105T060000
END:STANDARD
BEGIN:DAYLIGHT
TZOFFSETFROM:-0500
TZOFFSETTO:-0400
TZNAME:EDT
DTSTART:20240310T070000
END:DAYLIGHT
BEGIN:STANDARD
TZOFFSETFROM:-0400
TZOFFSETTO:-0500
TZNAME:EST
DTSTART:20241103T060000
END:STANDARD
BEGIN:DAYLIGHT
TZOFFSETFROM:-0500
TZOFFSETTO:-0400
TZNAME:EDT
DTSTART:20250309T070000
END:DAYLIGHT
BEGIN:STANDARD
TZOFFSETFROM:-0400
TZOFFSETTO:-0500
TZNAME:EST
DTSTART:20251102T060000
END:STANDARD
END:VTIMEZONE
BEGIN:VEVENT
DTSTART;TZID=America/New_York:20240406T160000
DTEND;TZID=America/New_York:20240406T190000
DTSTAMP:20260423T064748
CREATED:20240315T201056Z
LAST-MODIFIED:20240326T211700Z
UID:7948-1712419200-1712430000@www.racingarchives.org
SUMMARY:Celebration of Life: Tim Meddaugh
DESCRIPTION:We were saddened to hear of the passing of long-time IMRRC friend and supporter Tim Meddaugh in February. \n \nTim was an avid racing fan and a 55-year member of the SCCA. Tim served as a flagger and chief steward for most of those years. A celebration of life will be held at a favorite destination of Tim’s\, the Seneca Lodge\, on April 6th from 4-7pm\, more details to follow. All are welcome.
URL:https://www.racingarchives.org/event/celebration-of-life-tim-meddaugh/
LOCATION:Seneca Lodge\, 3600 Walnut Rd\, Watkins Glen\, NY\, 14891\, United States
CATEGORIES:Memorial Service
ATTACH;FMTTYPE=image/jpeg:https://www.racingarchives.org/assets/In-Memoriam_announcement.jpg
END:VEVENT
END:VCALENDAR